BEGIN:VCALENDAR
VERSION:2.0
PRODID:-//VVV Dhünn - ECPv6.15.20//NONSGML v1.0//EN
CALSCALE:GREGORIAN
METHOD:PUBLISH
X-WR-CALNAME:VVV Dhünn
X-ORIGINAL-URL:https://vvv-dhuenn.de
X-WR-CALDESC:Veranstaltungen für VVV Dhünn
REFRESH-INTERVAL;VALUE=DURATION:PT1H
X-Robots-Tag:noindex
X-PUBLISHED-TTL:PT1H
BEGIN:VTIMEZONE
TZID:Europe/Berlin
BEGIN:DAYLIGHT
TZOFFSETFROM:+0100
TZOFFSETTO:+0200
TZNAME:CEST
DTSTART:20250330T010000
END:DAYLIGHT
BEGIN:STANDARD
TZOFFSETFROM:+0200
TZOFFSETTO:+0100
TZNAME:CET
DTSTART:20251026T010000
END:STANDARD
BEGIN:DAYLIGHT
TZOFFSETFROM:+0100
TZOFFSETTO:+0200
TZNAME:CEST
DTSTART:20260329T010000
END:DAYLIGHT
BEGIN:STANDARD
TZOFFSETFROM:+0200
TZOFFSETTO:+0100
TZNAME:CET
DTSTART:20261025T010000
END:STANDARD
BEGIN:DAYLIGHT
TZOFFSETFROM:+0100
TZOFFSETTO:+0200
TZNAME:CEST
DTSTART:20270328T010000
END:DAYLIGHT
BEGIN:STANDARD
TZOFFSETFROM:+0200
TZOFFSETTO:+0100
TZNAME:CET
DTSTART:20271031T010000
END:STANDARD
END:VTIMEZONE
BEGIN:VEVENT
DTSTART;TZID=Europe/Berlin:20260430T000000
DTEND;TZID=Europe/Berlin:20260430T235959
DTSTAMP:20260421T145346
CREATED:20260306T081703Z
LAST-MODIFIED:20260306T081704Z
UID:842-1777507200-1777593599@vvv-dhuenn.de
SUMMARY:Tanz in den Mai
DESCRIPTION:📅 Wann: 30.04.2026📍 Wo: Dorfplatz Dhünn \n\n\n\n✨ Es ist wieder soweit – der VVV lädt euch ein\, am 30.04.2025 in den Mai zu tanzen! 💃🕺 \n\n\n\nWeitere Infos folgen in Kürze
URL:https://vvv-dhuenn.de/event/tanz-in-den-mai-3/
LOCATION:Dorfplatz Dhünn\, Dhünn\, Wermelskirchen\, 42929
END:VEVENT
BEGIN:VEVENT
DTSTART;TZID=Europe/Berlin:20260507T190000
DTEND;TZID=Europe/Berlin:20260507T210000
DTSTAMP:20260421T145346
CREATED:20260306T081810Z
LAST-MODIFIED:20260306T081812Z
UID:844-1778180400-1778187600@vvv-dhuenn.de
SUMMARY:Jahreshauptversammlung
DESCRIPTION:
URL:https://vvv-dhuenn.de/event/jahreshauptversammlung-3/
LOCATION:Jägerhof Dhünn\, Dhünn-Neuenhaus 1\, Wermelskirchen\, 42929\, Deutschland
END:VEVENT
BEGIN:VEVENT
DTSTART;TZID=Europe/Berlin:20260824T000000
DTEND;TZID=Europe/Berlin:20260824T235959
DTSTAMP:20260421T145346
CREATED:20260306T082209Z
LAST-MODIFIED:20260306T082210Z
UID:846-1787529600-1787615999@vvv-dhuenn.de
SUMMARY:Kirmes in Dhünn
DESCRIPTION:
URL:https://vvv-dhuenn.de/event/kirmes-in-dhuenn-3/
END:VEVENT
END:VCALENDAR